BEGIN:VCALENDAR
VERSION:2.0
PRODID:-//eventon.com NONSGML v1.0//EN
BEGIN:VEVENT
UID:69ebaff8b65ab
DTSTAMP:20260424T120128
DTSTART:20260416T010000Z
DTEND:20260416T020000Z
LOCATION:Blue Quill Community League 11304 25 Ave NW
SUMMARY:Barre Fitness (No Class Apr 1\,  Apr 8)
DESCRIPTION: 
END:VEVENT
END:VCALENDAR